BEGIN:VCALENDAR
VERSION:2.0
PRODID:-//SSG Fuldatal - ECPv6.10.2//NONSGML v1.0//EN
CALSCALE:GREGORIAN
METHOD:PUBLISH
X-WR-CALNAME:SSG Fuldatal
X-ORIGINAL-URL:http://ssg-fuldatal.de
X-WR-CALDESC:Veranstaltungen für SSG Fuldatal
REFRESH-INTERVAL;VALUE=DURATION:PT1H
X-Robots-Tag:noindex
X-PUBLISHED-TTL:PT1H
BEGIN:VTIMEZONE
TZID:Europe/Berlin
BEGIN:DAYLIGHT
TZOFFSETFROM:+0100
TZOFFSETTO:+0200
TZNAME:CEST
DTSTART:20260329T010000
END:DAYLIGHT
BEGIN:STANDARD
TZOFFSETFROM:+0200
TZOFFSETTO:+0100
TZNAME:CET
DTSTART:20261025T010000
END:STANDARD
END:VTIMEZONE
BEGIN:VEVENT
DTSTART;VALUE=DATE:20260906
DTEND;VALUE=DATE:20260907
DTSTAMP:20260423T120053
CREATED:20260323T110457Z
LAST-MODIFIED:20260323T110457Z
UID:14882-1788652800-1788739199@ssg-fuldatal.de
SUMMARY:Nachwuchsschwimmfest der SG ACT Baunatal in Immenhausen
DESCRIPTION:Meldeschluss bei Angelika: 28.08.2026 – 20 Uhr \nAusschreibung \nMeldeergebnis \nProtokoll \nVereinsergebnis \nBericht \nGruppe(n): Angelika\, Edelgard
URL:http://ssg-fuldatal.de/event/nachwuchsschwimmfest-der-sg-act-baunatal-in-immenhausen-2/
LOCATION:Hallenbad Immenhausen\, Bernhardt-Vocke-Straße 5\, Immenhausen\, Hessen\, 34376\, Deutschland
CATEGORIES:Wettkampf
END:VEVENT
BEGIN:VEVENT
DTSTART;TZID=Europe/Berlin:20260923T190000
DTEND;TZID=Europe/Berlin:20260923T220000
DTSTAMP:20260423T120053
CREATED:20260312T122203Z
LAST-MODIFIED:20260312T122203Z
UID:14864-1790190000-1790200800@ssg-fuldatal.de
SUMMARY:Elternversammlung
DESCRIPTION:
URL:http://ssg-fuldatal.de/event/elternversammlung/
LOCATION:Vereinsraum Gemende Fuldtal\, Am Rathaus 9\, Fuldatal\, 34233\, Germany
CATEGORIES:Sitzung
END:VEVENT
END:VCALENDAR